BEGIN:VCALENDAR
VERSION:2.0
PRODID:-//https://lecze-salezjanie.pl///DJ-Events//EN
BEGIN:VEVENT
SUMMARY:+ Maciej Stanulewicz - w 8 rocznicę śmierci
UID:1555@https://lecze-salezjanie.pl/
DTSTART:20231005T180000
DTEND:20231005T180000
DTSTAMP:20260419T230059
CATEGORIES:Msza święta
LOCATION:Łęcze 82-340 Łęcze 48
GEO:54.2700545652713;19.468870040475466
DESCRIPTION:
URL:https://lecze-salezjanie.pl//component/djevents/details/2023-10-05/1555-maciej-stanulewicz-w-8-rocznice-smierci
END:VEVENT
END:VCALENDAR
