BEGIN:VCALENDAR
VERSION:2.0
PRODID:-//https://lecze-salezjanie.pl///DJ-Events//EN
BEGIN:VEVENT
SUMMARY:+ Anna Jasińska - Msza święta Gregoriańska (5)
UID:1601@https://lecze-salezjanie.pl/
DTSTART:20231005T170000
DTEND:20231005T170000
DTSTAMP:20260419T225833
CATEGORIES:Msza święta
LOCATION:Suchacz 82-340 Kielecka 14
GEO:54.2856461944789;19.44132685661316
DESCRIPTION:
URL:https://lecze-salezjanie.pl//component/djevents/details/2023-10-05/1601-anna-jasinska-msza-swieta-gregorianska-5
END:VEVENT
END:VCALENDAR
