BEGIN:VCALENDAR
VERSION:2.0
PRODID:-//https://lecze-salezjanie.pl///DJ-Events//EN
BEGIN:VEVENT
SUMMARY:+ Wiesława Reńska
UID:1653@https://lecze-salezjanie.pl/
DTSTART:20231006T133000
DTEND:20231006T133000
DTSTAMP:20260419T225711
CATEGORIES:Pogrzeb
LOCATION:Suchacz 82-340 Kielecka 14
GEO:54.2856461944789;19.44132685661316
DESCRIPTION:
URL:https://lecze-salezjanie.pl//component/djevents/details/2023-10-06/1653-wieslawa-renska
END:VEVENT
END:VCALENDAR
