BEGIN:VCALENDAR
VERSION:2.0
PRODID:-//https://lecze-salezjanie.pl///DJ-Events//EN
BEGIN:VEVENT
SUMMARY:+ Zbysław Lachowicz - w 1 rocznicę śmierci
UID:1258@https://lecze-salezjanie.pl/
DTSTART:20231008T090000
DTEND:20231008T090000
DTSTAMP:20260419T210748
CATEGORIES:Msza święta
LOCATION:Suchacz 82-340 Kielecka 14
GEO:54.2856461944789;19.44132685661316
DESCRIPTION:
URL:https://lecze-salezjanie.pl//component/djevents/details/2023-10-08/1258-zbyslaw-lachowicz-w-1-rocznice-smierci
END:VEVENT
END:VCALENDAR
