BEGIN:VCALENDAR
VERSION:2.0
PRODID:-//https://lecze-salezjanie.pl///DJ-Events//EN
BEGIN:VEVENT
SUMMARY:+ Walentyna Radziwoń w 5 rocznicę śmierci i Danuta Rutkowska
UID:1483@https://lecze-salezjanie.pl/
DTSTART:20231008T090000
DTEND:20231008T090000
DTSTAMP:20260419T210824
CATEGORIES:Msza święta
LOCATION:Łęcze 82-340 Łęcze 48
GEO:54.2700545652713;19.468870040475466
DESCRIPTION:
URL:https://lecze-salezjanie.pl//component/djevents/details/2023-10-08/1483-walentyna-radziwon-w-5-rocznice-smierci-i-danuta-rutkowska
END:VEVENT
END:VCALENDAR
