BEGIN:VCALENDAR
VERSION:2.0
PRODID:-//https://lecze-salezjanie.pl///DJ-Events//EN
BEGIN:VEVENT
SUMMARY:+ Anna Jasińska - Msza święta Gregoriańska (8)
UID:1557@https://lecze-salezjanie.pl/
DTSTART:20231008T120000
DTEND:20231008T120000
DTSTAMP:20260419T210647
CATEGORIES:Msza święta
LOCATION:Łęcze 82-340 Łęcze 48
GEO:54.2700545652713;19.468870040475466
DESCRIPTION:
URL:https://lecze-salezjanie.pl//component/djevents/details/2023-10-08/1557-anna-jasinska-msza-swieta-gregorianska-8
END:VEVENT
END:VCALENDAR
