BEGIN:VCALENDAR
VERSION:2.0
PRODID:-//https://lecze-salezjanie.pl///DJ-Events//EN
BEGIN:VEVENT
SUMMARY:Dziękczynna, z prośbą o dary Ducha Świętego, zdrowie, opiekę Matki Bożej dla Marcina i Elżbiety w 13 rocznicę ślubu
UID:1558@https://lecze-salezjanie.pl/
DTSTART:20231009T180000
DTEND:20231009T180000
DTSTAMP:20260419T210947
CATEGORIES:Msza święta
LOCATION:Łęcze 82-340 Łęcze 48
GEO:54.2700545652713;19.468870040475466
DESCRIPTION:
URL:https://lecze-salezjanie.pl//component/djevents/details/2023-10-09/1558-dziekczynna-z-prosba-o-dary-ducha-swietego-zdrowie-opieke-matki-bozej-dla-marcina-i-elzbiety-w-13-rocznice-slubu
END:VEVENT
END:VCALENDAR
