BEGIN:VCALENDAR
VERSION:2.0
PRODID:-//https://lecze-salezjanie.pl///DJ-Events//EN
BEGIN:VEVENT
SUMMARY:O dary Bożej Miłości, świętość życia, opiekę Matki Bożej i wyzwolenie z nałogów w rodzinie
UID:1656@https://lecze-salezjanie.pl/
DTSTART:20231012T170000
DTEND:20231012T170000
DTSTAMP:20260419T211051
CATEGORIES:Msza święta
LOCATION:Suchacz 82-340 Kielecka 14
GEO:54.2856461944789;19.44132685661316
DESCRIPTION:
URL:https://lecze-salezjanie.pl//component/djevents/details/2023-10-12/1656-o-dary-bozej-milosci-swietosc-zycia-opieke-matki-bozej-i-wyzwolenie-z-nalogow-w-rodzinie-6
END:VEVENT
END:VCALENDAR
