BEGIN:VCALENDAR
VERSION:2.0
PRODID:-//https://lecze-salezjanie.pl///DJ-Events//EN
BEGIN:VEVENT
SUMMARY:Dziękczynna, z prośbą o Boże Błogosławieństwo i opiekę Matki Bożej w rodzinie
UID:1657@https://lecze-salezjanie.pl/
DTSTART:20231013T170000
DTEND:20231013T170000
DTSTAMP:20260419T211014
CATEGORIES:Msza święta
LOCATION:Suchacz 82-340 Kielecka 14
GEO:54.2856461944789;19.44132685661316
DESCRIPTION:
URL:https://lecze-salezjanie.pl//component/djevents/details/2023-10-13/1657-dziekczynna-z-prosba-o-boze-blogoslawienstwo-i-opieke-matki-bozej-w-rodzinie
END:VEVENT
END:VCALENDAR
