BEGIN:VCALENDAR
VERSION:2.0
PRODID:-//https://lecze-salezjanie.pl///DJ-Events//EN
BEGIN:VEVENT
SUMMARY:+ Jadwiga i Józef Wiśniewscy, Janina i Stanisław, zmarli z rodziny Wosiów
UID:1127@https://lecze-salezjanie.pl/
DTSTART:20231015T090000
DTEND:20231015T090000
DTSTAMP:20260419T191845
CATEGORIES:Msza święta
LOCATION:Łęcze 82-340 Łęcze 48
GEO:54.2700545652713;19.468870040475466
DESCRIPTION:
URL:https://lecze-salezjanie.pl//component/djevents/details/2023-10-15/1127-jadwiga-i-jozef-wisniewscy-janina-i-stanislaw-zmarli-z-rodziny-wosiow
END:VEVENT
END:VCALENDAR
