BEGIN:VCALENDAR
VERSION:2.0
PRODID:-//https://lecze-salezjanie.pl///DJ-Events//EN
BEGIN:VEVENT
SUMMARY:O dary Bożej Miłości i zdrowie i nieustanną opiekę Matki Bożej dla Jadwigi Makarewicz
UID:1485@https://lecze-salezjanie.pl/
DTSTART:20231015T120000
DTEND:20231015T120000
DTSTAMP:20260419T192014
CATEGORIES:Msza święta
LOCATION:Łęcze 82-340 Łęcze 48
GEO:54.2700545652713;19.468870040475466
DESCRIPTION:
URL:https://lecze-salezjanie.pl//component/djevents/details/2023-10-15/1485-o-dary-bozej-milosci-i-zdrowie-i-nieustanna-opieke-matki-bozej-dla-jadwigi-makarewicz
END:VEVENT
END:VCALENDAR
