BEGIN:VCALENDAR
VERSION:2.0
PRODID:-//https://lecze-salezjanie.pl///DJ-Events//EN
BEGIN:VEVENT
SUMMARY:Dziękczynna, z prośbą o Boże Błogosławieństwo, zdrowie i opiekę Matki Bożej dla Anny i Krzysztofa w 30 rocznicę ślubu
UID:1507@https://lecze-salezjanie.pl/
DTSTART:20231015T090000
DTEND:20231015T090000
DTSTAMP:20260419T192205
CATEGORIES:Msza święta
LOCATION:Suchacz 82-340 Kielecka 14
GEO:54.2856461944789;19.44132685661316
DESCRIPTION:
URL:https://lecze-salezjanie.pl//component/djevents/details/2023-10-15/1507-dziekczynna-z-prosba-o-boze-blogoslawienstwo-zdrowie-i-opieke-matki-bozej-dla-anny-i-krzysztofa-w-30-rocznice-slubu
END:VEVENT
END:VCALENDAR
