BEGIN:VCALENDAR
VERSION:2.0
PRODID:-//https://lecze-salezjanie.pl///DJ-Events//EN
BEGIN:VEVENT
SUMMARY:O zdrowie, Boże Błogosławieństwo i opiekę Matki Bożej dla rodziny Henschke i Kuszyków
UID:1637@https://lecze-salezjanie.pl/
DTSTART:20231016T180000
DTEND:20231016T180000
DTSTAMP:20260419T192036
CATEGORIES:Msza święta
LOCATION:Łęcze 82-340 Łęcze 48
GEO:54.2700545652713;19.468870040475466
DESCRIPTION:
URL:https://lecze-salezjanie.pl//component/djevents/details/2023-10-16/1637-o-zdrowie-boze-blogoslawienstwo-i-opieke-matki-bozej-dla-rodziny-henschke-i-kuszykow
END:VEVENT
END:VCALENDAR
