BEGIN:VCALENDAR
VERSION:2.0
PRODID:-//https://lecze-salezjanie.pl///DJ-Events//EN
BEGIN:VEVENT
SUMMARY:Dziękczynna, z prośbą o dary Bożej Miłości, zdrowie i nieustanną opiekę Matki Bożej dla Małgorzaty Andronik
UID:1508@https://lecze-salezjanie.pl/
DTSTART:20231017T170000
DTEND:20231017T170000
DTSTAMP:20260419T191949
CATEGORIES:Msza święta
LOCATION:Suchacz 82-340 Kielecka 14
GEO:54.2856461944789;19.44132685661316
DESCRIPTION:
URL:https://lecze-salezjanie.pl//component/djevents/details/2023-10-17/1508-dziekczynna-z-prosba-o-dary-bozej-milosci-zdrowie-i-nieustanna-opieke-matki-bozej-dla-malgorzaty-andronik
END:VEVENT
END:VCALENDAR
