BEGIN:VCALENDAR
VERSION:2.0
PRODID:-//https://lecze-salezjanie.pl///DJ-Events//EN
BEGIN:VEVENT
SUMMARY:+ Anna Jasińska - Msza święta Gregoriańska (20)
UID:1566@https://lecze-salezjanie.pl/
DTSTART:20231020T180000
DTEND:20231020T180000
DTSTAMP:20260419T191610
CATEGORIES:Msza święta
LOCATION:Łęcze 82-340 Łęcze 48
GEO:54.2700545652713;19.468870040475466
DESCRIPTION:
URL:https://lecze-salezjanie.pl//component/djevents/details/2023-10-20/1566-anna-jasinska-msza-swieta-gregorianska-20
END:VEVENT
END:VCALENDAR
