BEGIN:VCALENDAR
VERSION:2.0
PRODID:-//https://lecze-salezjanie.pl///DJ-Events//EN
BEGIN:VEVENT
SUMMARY:Marta Fabisiak i Adam Puk
UID:1610@https://lecze-salezjanie.pl/
DTSTART:20231021T150000
DTEND:20231021T150000
DTSTAMP:20260419T191335
CATEGORIES:Ślub
LOCATION:Suchacz 82-340 Kielecka 14
GEO:54.2856461944789;19.44132685661316
DESCRIPTION:
URL:https://lecze-salezjanie.pl//component/djevents/details/2023-10-21/1610-marta-fabisiak-i-adam-puk
END:VEVENT
END:VCALENDAR
