BEGIN:VCALENDAR
VERSION:2.0
PRODID:-//https://lecze-salezjanie.pl///DJ-Events//EN
BEGIN:VEVENT
SUMMARY:+ Anna Jasińska - Msza święta Gregoriańska (22)
UID:1569@https://lecze-salezjanie.pl/
DTSTART:20231022T090000
DTEND:20231022T090000
DTSTAMP:20260419T191708
CATEGORIES:Msza święta
LOCATION:Łęcze 82-340 Łęcze 48
GEO:54.2700545652713;19.468870040475466
DESCRIPTION:
URL:https://lecze-salezjanie.pl//component/djevents/details/2023-10-22/1569-anna-jasinska-msza-swieta-gregorianska-22
END:VEVENT
END:VCALENDAR
