BEGIN:VCALENDAR
VERSION:2.0
PRODID:-//https://lecze-salezjanie.pl///DJ-Events//EN
BEGIN:VEVENT
SUMMARY:Dziękczynna, z prośbą o potrzebne łaski z okazji 18 urodzin Amelii, Oskara i Oliwiera
UID:1612@https://lecze-salezjanie.pl/
DTSTART:20231022T103000
DTEND:20231022T103000
DTSTAMP:20260419T174110
CATEGORIES:Msza święta
LOCATION:Suchacz 82-340 Kielecka 14
GEO:54.2856461944789;19.44132685661316
DESCRIPTION:
URL:https://lecze-salezjanie.pl//component/djevents/details/2023-10-22/1612-dziekczynna-z-prosba-o-potrzebne-laski-z-okazji-18-urodzin-amelii-oskara-i-oliwiera
END:VEVENT
END:VCALENDAR
