BEGIN:VCALENDAR
VERSION:2.0
PRODID:-//https://lecze-salezjanie.pl///DJ-Events//EN
BEGIN:VEVENT
SUMMARY:Diana Anna Depka
UID:1613@https://lecze-salezjanie.pl/
DTSTART:20231022T103000
DTEND:20231022T103000
DTSTAMP:20260419T172958
CATEGORIES:Chrzest
LOCATION:Suchacz 82-340 Kielecka 14
GEO:54.2856461944789;19.44132685661316
DESCRIPTION:
URL:https://lecze-salezjanie.pl//component/djevents/details/2023-10-22/1613-diana-anna-depka
END:VEVENT
END:VCALENDAR
