BEGIN:VCALENDAR
VERSION:2.0
PRODID:-//https://lecze-salezjanie.pl///DJ-Events//EN
BEGIN:VEVENT
SUMMARY:+ Jadwiga Szczodrowska - od syna Kazimierza z rodziną
UID:1670@https://lecze-salezjanie.pl/
DTSTART:20231022T120000
DTEND:20231022T120000
DTSTAMP:20260419T173157
CATEGORIES:Msza święta
LOCATION:Kamionek Wielki 82-340 Kamionek Wielki 5
GEO:54.262029131955885;19.404954271163948
DESCRIPTION:
URL:https://lecze-salezjanie.pl//component/djevents/details/2023-10-22/1670-jadwiga-szczodrowska-od-syna-kazimierza-z-rodzina
END:VEVENT
END:VCALENDAR
