BEGIN:VCALENDAR
VERSION:2.0
PRODID:-//https://lecze-salezjanie.pl///DJ-Events//EN
BEGIN:VEVENT
SUMMARY:Za dusze w czyśćcu cierpiące (6)
UID:1614@https://lecze-salezjanie.pl/
DTSTART:20231023T170000
DTEND:20231023T170000
DTSTAMP:20260419T172906
CATEGORIES:Msza święta
LOCATION:Suchacz 82-340 Kielecka 14
GEO:54.2856461944789;19.44132685661316
DESCRIPTION:
URL:https://lecze-salezjanie.pl//component/djevents/details/2023-10-23/1614-za-dusze-w-czysccu-cierpiace-7
END:VEVENT
END:VCALENDAR
