BEGIN:VCALENDAR
VERSION:2.0
PRODID:-//https://lecze-salezjanie.pl///DJ-Events//EN
BEGIN:VEVENT
SUMMARY:+ Anna Jasińska - Msza święta Gregoriańska (25)
UID:1573@https://lecze-salezjanie.pl/
DTSTART:20231025T180000
DTEND:20231025T180000
DTSTAMP:20260419T191652
CATEGORIES:Msza święta
LOCATION:Łęcze 82-340 Łęcze 48
GEO:54.2700545652713;19.468870040475466
DESCRIPTION:
URL:https://lecze-salezjanie.pl//component/djevents/details/2023-10-25/1573-anna-jasinska-msza-swieta-gregorianska-25
END:VEVENT
END:VCALENDAR
