BEGIN:VCALENDAR
VERSION:2.0
PRODID:-//https://lecze-salezjanie.pl///DJ-Events//EN
BEGIN:VEVENT
SUMMARY:Za dusze w czyśćcu cierpiące (8)
UID:1616@https://lecze-salezjanie.pl/
DTSTART:20231025T170000
DTEND:20231025T170000
DTSTAMP:20260419T172958
CATEGORIES:Msza święta
LOCATION:Suchacz 82-340 Kielecka 14
GEO:54.2856461944789;19.44132685661316
DESCRIPTION:
URL:https://lecze-salezjanie.pl//component/djevents/details/2023-10-25/1616-za-dusze-w-czysccu-cierpiace-9
END:VEVENT
END:VCALENDAR
