BEGIN:VCALENDAR
VERSION:2.0
PRODID:-//https://lecze-salezjanie.pl///DJ-Events//EN
BEGIN:VEVENT
SUMMARY:W intencji ofiarodawców
UID:1618@https://lecze-salezjanie.pl/
DTSTART:20231027T170000
DTEND:20231027T170000
DTSTAMP:20260419T173232
CATEGORIES:Msza święta
LOCATION:Suchacz 82-340 Kielecka 14
GEO:54.2856461944789;19.44132685661316
DESCRIPTION:
URL:https://lecze-salezjanie.pl//component/djevents/details/2023-10-27/1618-w-intencji-ofiarodawcow-1
END:VEVENT
END:VCALENDAR
