BEGIN:VCALENDAR
VERSION:2.0
PRODID:-//https://lecze-salezjanie.pl///DJ-Events//EN
BEGIN:VEVENT
SUMMARY:O dary Ducha Świętego, pomoc w nauce, zdrowie i opiekę Matki Bożej dla Kingi i Kacpra
UID:1658@https://lecze-salezjanie.pl/
DTSTART:20231028T170000
DTEND:20231028T170000
DTSTAMP:20260419T173526
CATEGORIES:Msza święta
LOCATION:Suchacz 82-340 Kielecka 14
GEO:54.2856461944789;19.44132685661316
DESCRIPTION:
URL:https://lecze-salezjanie.pl//component/djevents/details/2023-10-28/1658-o-dary-ducha-swietego-pomoc-w-nauce-zdrowie-i-opieke-matki-bozej-dla-kingi-i-kacpra
END:VEVENT
END:VCALENDAR
