BEGIN:VCALENDAR
VERSION:2.0
PRODID:-//https://lecze-salezjanie.pl///DJ-Events//EN
BEGIN:VEVENT
SUMMARY:+ Zofia i Gerard Pokora, Bogdan Stalewski
UID:1638@https://lecze-salezjanie.pl/
DTSTART:20231029T120000
DTEND:20231029T120000
DTSTAMP:20260419T153425
CATEGORIES:Msza święta
LOCATION:Łęcze 82-340 Łęcze 48
GEO:54.2700545652713;19.468870040475466
DESCRIPTION:
URL:https://lecze-salezjanie.pl//component/djevents/details/2023-10-29/1638-zofia-i-gerard-pokora-bogdan-stalewski
END:VEVENT
END:VCALENDAR
