BEGIN:VCALENDAR
VERSION:2.0
PRODID:-//https://lecze-salezjanie.pl///DJ-Events//EN
BEGIN:VEVENT
SUMMARY:+ Jerzy Bonikowski - w 4 rocznicę śmierci i zmarli z rodziny, Ryszard i Grażyna
UID:1659@https://lecze-salezjanie.pl/
DTSTART:20231029T090000
DTEND:20231029T090000
DTSTAMP:20260419T155032
CATEGORIES:Msza święta
LOCATION:Suchacz 82-340 Kielecka 14
GEO:54.2856461944789;19.44132685661316
DESCRIPTION:
URL:https://lecze-salezjanie.pl//component/djevents/details/2023-10-29/1659-jerzy-bonikowski-w-4-rocznice-smierci-i-zmarli-z-rodziny-ryszard-i-grazyna
END:VEVENT
END:VCALENDAR
