BEGIN:VCALENDAR
VERSION:2.0
PRODID:-//https://lecze-salezjanie.pl///DJ-Events//EN
BEGIN:VEVENT
SUMMARY:Za zmarłych z rodziny Romanowskich i Brywczyńskich
UID:1671@https://lecze-salezjanie.pl/
DTSTART:20231029T120000
DTEND:20231029T120000
DTSTAMP:20260419T155031
CATEGORIES:Msza święta
LOCATION:Kamionek Wielki 82-340 Kamionek Wielki 5
GEO:54.262029131955885;19.404954271163948
DESCRIPTION:
URL:https://lecze-salezjanie.pl//component/djevents/details/2023-10-29/1671-za-zmarlych-z-rodziny-romanowskich-i-brywczynskich
END:VEVENT
END:VCALENDAR
