BEGIN:VCALENDAR
VERSION:2.0
PRODID:-//https://lecze-salezjanie.pl///DJ-Events//EN
BEGIN:VEVENT
SUMMARY:+ Krystyna Piotrowska, Helena Literska i wszyscy zmarli z I. Róży
UID:1673@https://lecze-salezjanie.pl/
DTSTART:20231030T170000
DTEND:20231030T170000
DTSTAMP:20260419T155031
CATEGORIES:Msza święta
LOCATION:Suchacz 82-340 Kielecka 14
GEO:54.2856461944789;19.44132685661316
DESCRIPTION:
URL:https://lecze-salezjanie.pl//component/djevents/details/2023-10-30/1673-krystyna-piotrowska-helena-literska-i-wszyscy-zmarli-z-i-rozy
END:VEVENT
END:VCALENDAR
