BEGIN:VCALENDAR
VERSION:2.0
PRODID:-//https://lecze-salezjanie.pl///DJ-Events//EN
BEGIN:VEVENT
SUMMARY:+ Stanisław Chrząszcz - w 13 rocznicę śmierci, Jan i Michalina Osmańscy, siostra Jadwiga i Edmund Morzuch, teściowie Franciszek i Marianna Chrząszcz raz wnuk Sławomir Chrząszcz i brat Jan Osmański
UID:1639@https://lecze-salezjanie.pl/
DTSTART:20231031T180000
DTEND:20231031T180000
DTSTAMP:20260419T172447
CATEGORIES:Msza święta
LOCATION:Łęcze 82-340 Łęcze 48
GEO:54.2700545652713;19.468870040475466
DESCRIPTION:
URL:https://lecze-salezjanie.pl//component/djevents/details/2023-10-31/1639-stanislaw-chrzaszcz-w-13-rocznice-smierci-jan-i-michalina-osmanscy-siostra-jadwiga-i-edmund-morzuch-tesciowie-franciszek-i-marianna-chrzaszcz-raz-wnuk-slawomir-chrzaszcz-i-brat-jan-osmanski
END:VEVENT
END:VCALENDAR
