BEGIN:VCALENDAR
VERSION:2.0
PRODID:-//https://lecze-salezjanie.pl///DJ-Events//EN
BEGIN:VEVENT
SUMMARY:O Boże Błogosławieństwo w nauce i pracy oraz zdrowie dla Mateusza Domina
UID:1660@https://lecze-salezjanie.pl/
DTSTART:20231031T170000
DTEND:20231031T170000
DTSTAMP:20260419T155117
CATEGORIES:Msza święta
LOCATION:Suchacz 82-340 Kielecka 14
GEO:54.2856461944789;19.44132685661316
DESCRIPTION:
URL:https://lecze-salezjanie.pl//component/djevents/details/2023-10-31/1660-o-boze-blogoslawienstwo-w-nauce-i-pracy-oraz-zdrowie-dla-mateusza-domina
END:VEVENT
END:VCALENDAR
