BEGIN:VCALENDAR
VERSION:2.0
PRODID:-//https://lecze-salezjanie.pl///DJ-Events//EN
BEGIN:VEVENT
SUMMARY:+ Małgorzata Parzych i Wiesława Bejnar
UID:1486@https://lecze-salezjanie.pl/
DTSTART:20231101T090000
DTEND:20231101T090000
DTSTAMP:20260419T155124
CATEGORIES:Msza święta
LOCATION:Łęcze 82-340 Łęcze 48
GEO:54.2700545652713;19.468870040475466
DESCRIPTION:
URL:https://lecze-salezjanie.pl//component/djevents/details/2023-11-01/1486-malgorzata-parzych-i-wieslawa-bejnar
END:VEVENT
END:VCALENDAR
