BEGIN:VCALENDAR
VERSION:2.0
PRODID:-//https://lecze-salezjanie.pl///DJ-Events//EN
BEGIN:VEVENT
SUMMARY:+ Ireneusz
UID:1661@https://lecze-salezjanie.pl/
DTSTART:20231101T090000
DTEND:20231101T090000
DTSTAMP:20260419T153259
CATEGORIES:Msza święta
LOCATION:Suchacz 82-340 Kielecka 14
GEO:54.2856461944789;19.44132685661316
DESCRIPTION:
URL:https://lecze-salezjanie.pl//component/djevents/details/2023-11-01/1661-ireneusz
END:VEVENT
END:VCALENDAR
