BEGIN:VCALENDAR
VERSION:2.0
PRODID:-//https://lecze-salezjanie.pl///DJ-Events//EN
BEGIN:VEVENT
SUMMARY:+ Irena, Wacław, Henryk i zmarli z rodziny Andrukiewiczów, Androników, Pankiewiczów, Łazuków i Czyżewskich
UID:1640@https://lecze-salezjanie.pl/
DTSTART:20231102T180000
DTEND:20231102T180000
DTSTAMP:20260419T155030
CATEGORIES:Msza święta
LOCATION:Łęcze 82-340 Łęcze 48
GEO:54.2700545652713;19.468870040475466
DESCRIPTION:
URL:https://lecze-salezjanie.pl//component/djevents/details/2023-11-02/1640-irena-waclaw-henryk-i-zmarli-z-rodziny-andrukiewiczow-andronikow-pankiewiczow-lazukow-i-czyzewskich
END:VEVENT
END:VCALENDAR
