BEGIN:VCALENDAR
VERSION:2.0
PRODID:-//https://lecze-salezjanie.pl///DJ-Events//EN
BEGIN:VEVENT
SUMMARY:+ Rozwita Pawlak
UID:1676@https://lecze-salezjanie.pl/
DTSTART:20231104T133000
DTEND:20231104T133000
DTSTAMP:20260419T153424
CATEGORIES:Pogrzeb
LOCATION:Łęcze 82-340 Łęcze 48
GEO:54.2700545652713;19.468870040475466
DESCRIPTION:
URL:https://lecze-salezjanie.pl//component/djevents/details/2023-11-04/1676-rozwita-pawlak
END:VEVENT
END:VCALENDAR
