BEGIN:VCALENDAR
VERSION:2.0
PRODID:-//https://lecze-salezjanie.pl///DJ-Events//EN
BEGIN:VEVENT
SUMMARY:+ Robert Jeszke i zmarli z rodziny Jeszków i Piotrowskich
UID:1509@https://lecze-salezjanie.pl/
DTSTART:20231105T090000
DTEND:20231105T090000
DTSTAMP:20260419T141825
CATEGORIES:Msza święta
LOCATION:Suchacz 82-340 Kielecka 14
GEO:54.2856461944789;19.44132685661316
DESCRIPTION:
URL:https://lecze-salezjanie.pl//component/djevents/details/2023-11-05/1509-robert-jeszke-i-zmarli-z-rodziny-jeszkow-i-piotrowskich
END:VEVENT
END:VCALENDAR
