BEGIN:VCALENDAR
VERSION:2.0
PRODID:-//https://lecze-salezjanie.pl///DJ-Events//EN
BEGIN:VEVENT
SUMMARY:+ Józef Meller
UID:1678@https://lecze-salezjanie.pl/
DTSTART:20231105T120000
DTEND:20231105T120000
DTSTAMP:20260419T172416
CATEGORIES:Msza święta
LOCATION:Łęcze 82-340 Łęcze 48
GEO:54.2700545652713;19.468870040475466
DESCRIPTION:
URL:https://lecze-salezjanie.pl//component/djevents/details/2023-11-05/1678-jozef-meller
END:VEVENT
END:VCALENDAR
