BEGIN:VCALENDAR
VERSION:2.0
PRODID:-//https://lecze-salezjanie.pl///DJ-Events//EN
BEGIN:VEVENT
SUMMARY:O dary Bożej Miłości, świętość życia, opiekę Matki Bożej i wyzwolenie z nałogów w rodzinie
UID:1643@https://lecze-salezjanie.pl/
DTSTART:20231110T180000
DTEND:20231110T180000
DTSTAMP:20260419T135638
CATEGORIES:Msza święta
LOCATION:Łęcze 82-340 Łęcze 48
GEO:54.2700545652713;19.468870040475466
DESCRIPTION:
URL:https://lecze-salezjanie.pl//component/djevents/details/2023-11-10/1643-o-dary-bozej-milosci-swietosc-zycia-opieke-matki-bozej-i-wyzwolenie-z-nalogow-w-rodzinie-4
END:VEVENT
END:VCALENDAR
