BEGIN:VCALENDAR
VERSION:2.0
PRODID:-//https://lecze-salezjanie.pl///DJ-Events//EN
BEGIN:VEVENT
SUMMARY:+ Jadwiga Szczodrowska - w miesiąc po śmierci
UID:1693@https://lecze-salezjanie.pl/
DTSTART:20231112T120000
DTEND:20231112T120000
DTSTAMP:20260419T141728
CATEGORIES:Msza święta
LOCATION:Kamionek Wielki 82-340 Kamionek Wielki 5
GEO:54.262029131955885;19.404954271163948
DESCRIPTION:
URL:https://lecze-salezjanie.pl//component/djevents/details/2023-11-12/1693-jadwiga-szczodrowska-w-miesiac-po-smierci
END:VEVENT
END:VCALENDAR
