BEGIN:VCALENDAR
VERSION:2.0
PRODID:-//https://lecze-salezjanie.pl///DJ-Events//EN
BEGIN:VEVENT
SUMMARY:+ Irena, Wacław i Henryk, zmarli z rodziny
UID:1645@https://lecze-salezjanie.pl/
DTSTART:20231113T180000
DTEND:20231113T180000
DTSTAMP:20260419T140751
CATEGORIES:Msza święta
LOCATION:Łęcze 82-340 Łęcze 48
GEO:54.2700545652713;19.468870040475466
DESCRIPTION:
URL:https://lecze-salezjanie.pl//component/djevents/details/2023-11-13/1645-irena-waclaw-i-henryk-zmarli-z-rodziny
END:VEVENT
END:VCALENDAR
