BEGIN:VCALENDAR
VERSION:2.0
PRODID:-//https://lecze-salezjanie.pl///DJ-Events//EN
BEGIN:VEVENT
SUMMARY:+ Włodzimierz i Władysława Ortyńscy
UID:1681@https://lecze-salezjanie.pl/
DTSTART:20231117T180000
DTEND:20231117T180000
DTSTAMP:20260419T135530
CATEGORIES:Msza święta
LOCATION:Łęcze 82-340 Łęcze 48
GEO:54.2700545652713;19.468870040475466
DESCRIPTION:
URL:https://lecze-salezjanie.pl//component/djevents/details/2023-11-17/1681-wlodzimierz-i-wladyslawa-ortynscy
END:VEVENT
END:VCALENDAR
