BEGIN:VCALENDAR
VERSION:2.0
PRODID:-//https://lecze-salezjanie.pl///DJ-Events//EN
BEGIN:VEVENT
SUMMARY:+ Rozwita Luiza Pawlak - w miesiąc po śmierci
UID:1684@https://lecze-salezjanie.pl/
DTSTART:20231125T180000
DTEND:20231125T180000
DTSTAMP:20260419T154010
CATEGORIES:Msza święta
LOCATION:Łęcze 82-340 Łęcze 48
GEO:54.2700545652713;19.468870040475466
DESCRIPTION:
URL:https://lecze-salezjanie.pl//component/djevents/details/2023-11-25/1684-rozwita-luiza-pawlak-w-miesiac-po-smierci
END:VEVENT
END:VCALENDAR
