BEGIN:VCALENDAR
VERSION:2.0
PRODID:-//https://lecze-salezjanie.pl///DJ-Events//EN
BEGIN:VEVENT
SUMMARY:O Boże Błogosławieństwo i potrzebne łaski dla Anny Rygała i jej rodziny z okazji urodzin
UID:1746@https://lecze-salezjanie.pl/
DTSTART:20231206T180000
DTEND:20231206T180000
DTSTAMP:20260419T135638
CATEGORIES:Msza święta
LOCATION:Łęcze 82-340 Łęcze 48
GEO:54.2700545652713;19.468870040475466
DESCRIPTION:
URL:https://lecze-salezjanie.pl//component/djevents/details/2023-12-06/1746-o-boze-blogoslawienstwo-i-potrzebne-laski-dla-anny-rygala-i-jej-rodziny-z-okazji-urodzin
END:VEVENT
END:VCALENDAR
