BEGIN:VCALENDAR
VERSION:2.0
PRODID:-//https://lecze-salezjanie.pl///DJ-Events//EN
BEGIN:VEVENT
SUMMARY:O powołania do Zgromadzenia Salezjańskiego
UID:1739@https://lecze-salezjanie.pl/
DTSTART:20231207T170000
DTEND:20231207T170000
DTSTAMP:20260421T112432
CATEGORIES:Msza święta
LOCATION:Suchacz 82-340 Kielecka 14
GEO:54.2856461944789;19.44132685661316
DESCRIPTION:
URL:https://lecze-salezjanie.pl//component/djevents/details/2023-12-07/1739-o-powolania-do-zgromadzenia-salezjanskiego-2
END:VEVENT
END:VCALENDAR
