BEGIN:VCALENDAR
VERSION:2.0
PRODID:-//https://lecze-salezjanie.pl///DJ-Events//EN
BEGIN:VEVENT
SUMMARY:+ Leokadia i Czesław Mikłosz, ks. Jan Toczko
UID:1685@https://lecze-salezjanie.pl/
DTSTART:20231209T180000
DTEND:20231209T180000
DTSTAMP:20260419T135459
CATEGORIES:Msza święta
LOCATION:Łęcze 82-340 Łęcze 48
GEO:54.2700545652713;19.468870040475466
DESCRIPTION:
URL:https://lecze-salezjanie.pl//component/djevents/details/2023-12-09/1685-leokadia-i-czeslaw-miklosz-ks-jan-toczko
END:VEVENT
END:VCALENDAR
