BEGIN:VCALENDAR
VERSION:2.0
PRODID:-//https://lecze-salezjanie.pl///DJ-Events//EN
BEGIN:VEVENT
SUMMARY:+ Krzysztof Markun - w 1 rocznicę śmierci
UID:1622@https://lecze-salezjanie.pl/
DTSTART:20231210T103000
DTEND:20231210T103000
DTSTAMP:20260419T151552
CATEGORIES:Msza święta
LOCATION:Suchacz 82-340 Kielecka 14
GEO:54.2856461944789;19.44132685661316
DESCRIPTION:
URL:https://lecze-salezjanie.pl//component/djevents/details/2023-12-10/1622-krzysztof-markun-w-1-rocznice-smierci
END:VEVENT
END:VCALENDAR
