BEGIN:VCALENDAR
VERSION:2.0
PRODID:-//https://lecze-salezjanie.pl///DJ-Events//EN
BEGIN:VEVENT
SUMMARY:+ Irena i Maksymilian Buławscy
UID:1668@https://lecze-salezjanie.pl/
DTSTART:20231210T090000
DTEND:20231210T090000
DTSTAMP:20260419T151535
CATEGORIES:Msza święta
LOCATION:Suchacz 82-340 Kielecka 14
GEO:54.2856461944789;19.44132685661316
DESCRIPTION:
URL:https://lecze-salezjanie.pl//component/djevents/details/2023-12-10/1668-irena-i-maksymilian-bulawscy-1
END:VEVENT
END:VCALENDAR
