BEGIN:VCALENDAR
VERSION:2.0
PRODID:-//https://lecze-salezjanie.pl///DJ-Events//EN
BEGIN:VEVENT
SUMMARY:+ Waldemar Litwinowicz - w miesiąc po śmierci
UID:1687@https://lecze-salezjanie.pl/
DTSTART:20231210T120000
DTEND:20231210T120000
DTSTAMP:20260419T151448
CATEGORIES:Msza święta
LOCATION:Łęcze 82-340 Łęcze 48
GEO:54.2700545652713;19.468870040475466
DESCRIPTION:
URL:https://lecze-salezjanie.pl//component/djevents/details/2023-12-10/1687-waldemar-litwinowicz-w-miesiac-po-smierci
END:VEVENT
END:VCALENDAR
