BEGIN:VCALENDAR
VERSION:2.0
PRODID:-//https://lecze-salezjanie.pl///DJ-Events//EN
BEGIN:VEVENT
SUMMARY:+ Zofia i Władysław Kaczorek
UID:1700@https://lecze-salezjanie.pl/
DTSTART:20231210T120000
DTEND:20231210T120000
DTSTAMP:20260419T151648
CATEGORIES:Msza święta
LOCATION:Kamionek Wielki 82-340 Kamionek Wielki 5
GEO:54.262029131955885;19.404954271163948
DESCRIPTION:
URL:https://lecze-salezjanie.pl//component/djevents/details/2023-12-10/1700-zofia-i-wladyslaw-kaczorek
END:VEVENT
END:VCALENDAR
