BEGIN:VCALENDAR
VERSION:2.0
PRODID:-//https://lecze-salezjanie.pl///DJ-Events//EN
BEGIN:VEVENT
SUMMARY:O dary Bożej Miłości, zdrowie i opiekę Matki Bożej dla Marii Chodulskiej - w 80 urodziny
UID:1137@https://lecze-salezjanie.pl/
DTSTART:20231216T180000
DTEND:20231216T180000
DTSTAMP:20260419T170239
CATEGORIES:Msza święta
LOCATION:Łęcze 82-340 Łęcze 48
GEO:54.2700545652713;19.468870040475466
DESCRIPTION:
URL:https://lecze-salezjanie.pl//component/djevents/details/2023-12-16/1137-o-dary-bozej-milosci-zdrowie-i-opieke-matki-bozej-dla-marii-chodulskiej-w-80-urodziny
END:VEVENT
END:VCALENDAR
